BEGIN:VCALENDAR
VERSION:2.0
PRODID:-//Gustav-Heinemann-Realschule - ECPv6.15.17.1//NONSGML v1.0//EN
CALSCALE:GREGORIAN
METHOD:PUBLISH
X-WR-CALNAME:Gustav-Heinemann-Realschule
X-ORIGINAL-URL:https://rs-din.de
X-WR-CALDESC:Veranstaltungen für Gustav-Heinemann-Realschule
REFRESH-INTERVAL;VALUE=DURATION:PT1H
X-Robots-Tag:noindex
X-PUBLISHED-TTL:PT1H
BEGIN:VTIMEZONE
TZID:Europe/Berlin
BEGIN:DAYLIGHT
TZOFFSETFROM:+0100
TZOFFSETTO:+0200
TZNAME:CEST
DTSTART:20240331T010000
END:DAYLIGHT
BEGIN:STANDARD
TZOFFSETFROM:+0200
TZOFFSETTO:+0100
TZNAME:CET
DTSTART:20241027T010000
END:STANDARD
BEGIN:DAYLIGHT
TZOFFSETFROM:+0100
TZOFFSETTO:+0200
TZNAME:CEST
DTSTART:20250330T010000
END:DAYLIGHT
BEGIN:STANDARD
TZOFFSETFROM:+0200
TZOFFSETTO:+0100
TZNAME:CET
DTSTART:20251026T010000
END:STANDARD
BEGIN:DAYLIGHT
TZOFFSETFROM:+0100
TZOFFSETTO:+0200
TZNAME:CEST
DTSTART:20260329T010000
END:DAYLIGHT
BEGIN:STANDARD
TZOFFSETFROM:+0200
TZOFFSETTO:+0100
TZNAME:CET
DTSTART:20261025T010000
END:STANDARD
END:VTIMEZONE
BEGIN:VEVENT
DTSTART;VALUE=DATE:20251013
DTEND;VALUE=DATE:20251025
DTSTAMP:20260424T161647
CREATED:20250915T082321Z
LAST-MODIFIED:20250915T082321Z
UID:18258-1760313600-1761350399@rs-din.de
SUMMARY:Herbstferien
DESCRIPTION:
URL:https://rs-din.de/event/herbstferien/
CATEGORIES:Ferien
END:VEVENT
BEGIN:VEVENT
DTSTART;TZID=Europe/Berlin:20251028T160000
DTEND;TZID=Europe/Berlin:20251028T170000
DTSTAMP:20260424T161647
CREATED:20250915T082607Z
LAST-MODIFIED:20250915T082607Z
UID:18260-1761667200-1761670800@rs-din.de
SUMMARY:Jahrgang 5: Eltern-Lehrer*innen-Café
DESCRIPTION:
URL:https://rs-din.de/event/jahrgang-5-eltern-lehrerinnen-cafe/
LOCATION:GHR Dinslaken\, Standort „Am Stadtbad“
CATEGORIES:Elternsprechtag,Informationsveranstaltung
END:VEVENT
END:VCALENDAR