BEGIN:VCALENDAR
VERSION:2.0
PRODID:-//Gustav-Heinemann-Realschule - ECPv6.15.17.1//NONSGML v1.0//EN
CALSCALE:GREGORIAN
METHOD:PUBLISH
X-WR-CALNAME:Gustav-Heinemann-Realschule
X-ORIGINAL-URL:https://rs-din.de
X-WR-CALDESC:Veranstaltungen für Gustav-Heinemann-Realschule
REFRESH-INTERVAL;VALUE=DURATION:PT1H
X-Robots-Tag:noindex
X-PUBLISHED-TTL:PT1H
BEGIN:VTIMEZONE
TZID:Europe/Berlin
BEGIN:DAYLIGHT
TZOFFSETFROM:+0100
TZOFFSETTO:+0200
TZNAME:CEST
DTSTART:20240331T010000
END:DAYLIGHT
BEGIN:STANDARD
TZOFFSETFROM:+0200
TZOFFSETTO:+0100
TZNAME:CET
DTSTART:20241027T010000
END:STANDARD
BEGIN:DAYLIGHT
TZOFFSETFROM:+0100
TZOFFSETTO:+0200
TZNAME:CEST
DTSTART:20250330T010000
END:DAYLIGHT
BEGIN:STANDARD
TZOFFSETFROM:+0200
TZOFFSETTO:+0100
TZNAME:CET
DTSTART:20251026T010000
END:STANDARD
BEGIN:DAYLIGHT
TZOFFSETFROM:+0100
TZOFFSETTO:+0200
TZNAME:CEST
DTSTART:20260329T010000
END:DAYLIGHT
BEGIN:STANDARD
TZOFFSETFROM:+0200
TZOFFSETTO:+0100
TZNAME:CET
DTSTART:20261025T010000
END:STANDARD
END:VTIMEZONE
BEGIN:VEVENT
DTSTART;VALUE=DATE:20251104
DTEND;VALUE=DATE:20251105
DTSTAMP:20260424T150259
CREATED:20250915T084638Z
LAST-MODIFIED:20250915T084638Z
UID:18298-1762214400-1762300799@rs-din.de
SUMMARY:alle Jahrgänge: Kurzstunden
DESCRIPTION:
URL:https://rs-din.de/event/alle-jahrgaenge-kurzstunden-2/
LOCATION:GHR Dinslaken\, Standort „Am Stadtbad“
CATEGORIES:Stundenplan und Unterricht
END:VEVENT
BEGIN:VEVENT
DTSTART;TZID=Europe/Berlin:20251104T140000
DTEND;TZID=Europe/Berlin:20251104T180000
DTSTAMP:20260424T150259
CREATED:20250915T082734Z
LAST-MODIFIED:20250915T082734Z
UID:18262-1762264800-1762279200@rs-din.de
SUMMARY:alle Jahrgänge: Eltersprechtag
DESCRIPTION:Unterricht nach Kurzstundenplan!
URL:https://rs-din.de/event/alle-jahrgaenge-eltersprechtag/
LOCATION:GHR Dinslaken\, Standort „Am Stadtbad“
CATEGORIES:Elternsprechtag
END:VEVENT
BEGIN:VEVENT
DTSTART;TZID=Europe/Berlin:20251105T190000
DTEND;TZID=Europe/Berlin:20251105T203000
DTSTAMP:20260424T150259
CREATED:20250926T081910Z
LAST-MODIFIED:20250926T081910Z
UID:18383-1762369200-1762374600@rs-din.de
SUMMARY:künftiger Jahrgang 5: Infoabend Grundschuleltern
DESCRIPTION:
URL:https://rs-din.de/event/kuenftiger-jahrgang-5-infoabend-grundschuleltern/
LOCATION:GHR Dinslaken\, Standort „Am Stadtbad“
CATEGORIES:Elternabend,Informationsveranstaltung
END:VEVENT
BEGIN:VEVENT
DTSTART;VALUE=DATE:20251106
DTEND;VALUE=DATE:20251108
DTSTAMP:20260424T150259
CREATED:20250915T082836Z
LAST-MODIFIED:20250915T082836Z
UID:18264-1762387200-1762559999@rs-din.de
SUMMARY:Jahrgang 7: Suchtprävention
DESCRIPTION:Einteilung und Zeiten laut Plan!
URL:https://rs-din.de/event/jahrgang-7-suchtpraevention/
LOCATION:GHR Dinslaken\, Standort „Am Stadtbad“
CATEGORIES:Prävention,Projekte
END:VEVENT
BEGIN:VEVENT
DTSTART;VALUE=DATE:20251110
DTEND;VALUE=DATE:20251113
DTSTAMP:20260424T150259
CREATED:20250915T083035Z
LAST-MODIFIED:20250915T083035Z
UID:18268-1762732800-1762991999@rs-din.de
SUMMARY:Jahrgang 7: Klassenfahrt
DESCRIPTION:
URL:https://rs-din.de/event/jahrgang-7-klassenfahrt/
CATEGORIES:Klassenfahrt
END:VEVENT
BEGIN:VEVENT
DTSTART;VALUE=DATE:20251110
DTEND;VALUE=DATE:20251115
DTSTAMP:20260424T150259
CREATED:20250915T082949Z
LAST-MODIFIED:20250915T082949Z
UID:18266-1762732800-1763164799@rs-din.de
SUMMARY:Jahrgang 6: Projekt "Der sichere Radfahrer"
DESCRIPTION:Einteilung und Zeiten laut Plan!
URL:https://rs-din.de/event/jahrgang-6-projekt-der-sichere-radfahrer/
CATEGORIES:Prävention,Projekte
END:VEVENT
BEGIN:VEVENT
DTSTART;VALUE=DATE:20251117
DTEND;VALUE=DATE:20251119
DTSTAMP:20260424T150259
CREATED:20250915T083145Z
LAST-MODIFIED:20250915T083145Z
UID:18270-1763337600-1763510399@rs-din.de
SUMMARY:Jahrgänge 5 und 6: Zahnputztraining und Fluoridierung
DESCRIPTION:Einteilung Zeiten laut Plan!
URL:https://rs-din.de/event/jahrgaenge-5-und-6-zahnputztraining-und-fluoridierung/
CATEGORIES:Prävention
END:VEVENT
BEGIN:VEVENT
DTSTART;TZID=Europe/Berlin:20251118T190000
DTEND;TZID=Europe/Berlin:20251118T213000
DTSTAMP:20260424T150259
CREATED:20250915T083247Z
LAST-MODIFIED:20250915T083247Z
UID:18272-1763492400-1763501400@rs-din.de
SUMMARY:Jahrgang 9 und 10: Informationsabend "Weiterführende Schulen"
DESCRIPTION:
URL:https://rs-din.de/event/jahrgang-9-und-10-informationsabend-weiterfuehrende-schulen/
LOCATION:GHR Dinslaken\, Standort „Am Stadtbad“
CATEGORIES:Berufswahlorientierung,Elternabend,Informationsveranstaltung
END:VEVENT
BEGIN:VEVENT
DTSTART;TZID=Europe/Berlin:20251121T150000
DTEND;TZID=Europe/Berlin:20251121T180000
DTSTAMP:20260424T150259
CREATED:20250915T083411Z
LAST-MODIFIED:20250915T083411Z
UID:18274-1763737200-1763748000@rs-din.de
SUMMARY:alle Jahrgänge: Tag der offenen Tür
DESCRIPTION:Einteilung und Zeiten laut Plan!
URL:https://rs-din.de/event/alle-jahrgaenge-tag-der-offenen-tuer/
CATEGORIES:Projekte,Tag der offenen Tür
END:VEVENT
BEGIN:VEVENT
DTSTART;VALUE=DATE:20251126
DTEND;VALUE=DATE:20251129
DTSTAMP:20260424T150259
CREATED:20250915T083453Z
LAST-MODIFIED:20250915T083453Z
UID:18276-1764115200-1764374399@rs-din.de
SUMMARY:Jahrgänge 8 und 9: Kurstage
DESCRIPTION:
URL:https://rs-din.de/event/jahrgaenge-8-und-9-kurstage/
CATEGORIES:Klassenfahrt,Projekte
END:VEVENT
BEGIN:VEVENT
DTSTART;TZID=Europe/Berlin:20251128T074500
DTEND;TZID=Europe/Berlin:20251128T080000
DTSTAMP:20260424T150259
CREATED:20250915T083620Z
LAST-MODIFIED:20250915T083620Z
UID:18278-1764315900-1764316800@rs-din.de
SUMMARY:alle Jahrgänge: Impuls zum 1. Advent
DESCRIPTION:
URL:https://rs-din.de/event/alle-jahrgaenge-impuls-zum-1-advent/
LOCATION:GHR Dinslaken\, Standort „Am Stadtbad“
CATEGORIES:Gottesdienst
END:VEVENT
END:VCALENDAR