BEGIN:VCALENDAR
VERSION:2.0
PRODID:-//Gustav-Heinemann-Realschule - ECPv6.15.17.1//NONSGML v1.0//EN
CALSCALE:GREGORIAN
METHOD:PUBLISH
X-WR-CALNAME:Gustav-Heinemann-Realschule
X-ORIGINAL-URL:https://rs-din.de
X-WR-CALDESC:Veranstaltungen für Gustav-Heinemann-Realschule
REFRESH-INTERVAL;VALUE=DURATION:PT1H
X-Robots-Tag:noindex
X-PUBLISHED-TTL:PT1H
BEGIN:VTIMEZONE
TZID:Europe/Berlin
BEGIN:DAYLIGHT
TZOFFSETFROM:+0100
TZOFFSETTO:+0200
TZNAME:CEST
DTSTART:20240331T010000
END:DAYLIGHT
BEGIN:STANDARD
TZOFFSETFROM:+0200
TZOFFSETTO:+0100
TZNAME:CET
DTSTART:20241027T010000
END:STANDARD
BEGIN:DAYLIGHT
TZOFFSETFROM:+0100
TZOFFSETTO:+0200
TZNAME:CEST
DTSTART:20250330T010000
END:DAYLIGHT
BEGIN:STANDARD
TZOFFSETFROM:+0200
TZOFFSETTO:+0100
TZNAME:CET
DTSTART:20251026T010000
END:STANDARD
BEGIN:DAYLIGHT
TZOFFSETFROM:+0100
TZOFFSETTO:+0200
TZNAME:CEST
DTSTART:20260329T010000
END:DAYLIGHT
BEGIN:STANDARD
TZOFFSETFROM:+0200
TZOFFSETTO:+0100
TZNAME:CET
DTSTART:20261025T010000
END:STANDARD
BEGIN:DAYLIGHT
TZOFFSETFROM:+0100
TZOFFSETTO:+0200
TZNAME:CEST
DTSTART:20270328T010000
END:DAYLIGHT
BEGIN:STANDARD
TZOFFSETFROM:+0200
TZOFFSETTO:+0100
TZNAME:CET
DTSTART:20271031T010000
END:STANDARD
END:VTIMEZONE
BEGIN:VEVENT
DTSTART;VALUE=DATE:20251202
DTEND;VALUE=DATE:20251204
DTSTAMP:20260424T132759
CREATED:20250915T083731Z
LAST-MODIFIED:20250915T083731Z
UID:18280-1764633600-1764806399@rs-din.de
SUMMARY:Jahrgang 10: Schul- und Berufswahltage (II)
DESCRIPTION:
URL:https://rs-din.de/event/jahrgang-10-schul-und-berufswahltage-ii/
CATEGORIES:Berufswahlorientierung
END:VEVENT
BEGIN:VEVENT
DTSTART;TZID=Europe/Berlin:20251205T074500
DTEND;TZID=Europe/Berlin:20251205T080000
DTSTAMP:20260424T132759
CREATED:20250915T083811Z
LAST-MODIFIED:20250915T083811Z
UID:18282-1764920700-1764921600@rs-din.de
SUMMARY:alle Jahrgänge: Impuls zum 2. Advent
DESCRIPTION:
URL:https://rs-din.de/event/alle-jahrgaenge-impuls-zum-2-advent/
LOCATION:GHR Dinslaken\, Standort „Am Stadtbad“
CATEGORIES:Gottesdienst
END:VEVENT
BEGIN:VEVENT
DTSTART;TZID=Europe/Berlin:20251212T074500
DTEND;TZID=Europe/Berlin:20251212T080000
DTSTAMP:20260424T132759
CREATED:20250915T083900Z
LAST-MODIFIED:20250915T083900Z
UID:18284-1765525500-1765526400@rs-din.de
SUMMARY:alle Jahrgänge: Impuls zum 3. Advent
DESCRIPTION:
URL:https://rs-din.de/event/alle-jahrgaenge-impuls-zum-3-advent/
LOCATION:GHR Dinslaken\, Standort „Am Stadtbad“
CATEGORIES:Gottesdienst
END:VEVENT
BEGIN:VEVENT
DTSTART;VALUE=DATE:20251219
DTEND;VALUE=DATE:20251220
DTSTAMP:20260424T132759
CREATED:20250915T084548Z
LAST-MODIFIED:20250915T084548Z
UID:18296-1766102400-1766188799@rs-din.de
SUMMARY:alle Jahrgänge: Unterrichtsschluss nach der 4. Stunde
DESCRIPTION:
URL:https://rs-din.de/event/alle-jahrgaenge-unterrichtsschluss-nach-der-4-stunde/
CATEGORIES:Stundenplan und Unterricht
END:VEVENT
BEGIN:VEVENT
DTSTART;TZID=Europe/Berlin:20251219T074500
DTEND;TZID=Europe/Berlin:20251219T080000
DTSTAMP:20260424T132759
CREATED:20250915T083942Z
LAST-MODIFIED:20250915T083942Z
UID:18286-1766130300-1766131200@rs-din.de
SUMMARY:alle Jahrgänge: Impuls zum 4. Advent
DESCRIPTION:
URL:https://rs-din.de/event/alle-jahrgaenge-impuls-zum-4-advent/
LOCATION:GHR Dinslaken\, Standort „Am Stadtbad“
CATEGORIES:Gottesdienst
END:VEVENT
BEGIN:VEVENT
DTSTART;VALUE=DATE:20251222
DTEND;VALUE=DATE:20260107
DTSTAMP:20260424T132759
CREATED:20250915T084026Z
LAST-MODIFIED:20250915T084026Z
UID:18288-1766361600-1767743999@rs-din.de
SUMMARY:Weihnachtsferien
DESCRIPTION:
URL:https://rs-din.de/event/weihnachtsferien/
CATEGORIES:Ferien
END:VEVENT
END:VCALENDAR