BEGIN:VCALENDAR
VERSION:2.0
PRODID:-//Gustav-Heinemann-Realschule - ECPv6.15.17.1//NONSGML v1.0//EN
CALSCALE:GREGORIAN
METHOD:PUBLISH
X-WR-CALNAME:Gustav-Heinemann-Realschule
X-ORIGINAL-URL:https://rs-din.de
X-WR-CALDESC:Veranstaltungen für Gustav-Heinemann-Realschule
REFRESH-INTERVAL;VALUE=DURATION:PT1H
X-Robots-Tag:noindex
X-PUBLISHED-TTL:PT1H
BEGIN:VTIMEZONE
TZID:Europe/Berlin
BEGIN:DAYLIGHT
TZOFFSETFROM:+0100
TZOFFSETTO:+0200
TZNAME:CEST
DTSTART:20250330T010000
END:DAYLIGHT
BEGIN:STANDARD
TZOFFSETFROM:+0200
TZOFFSETTO:+0100
TZNAME:CET
DTSTART:20251026T010000
END:STANDARD
BEGIN:DAYLIGHT
TZOFFSETFROM:+0100
TZOFFSETTO:+0200
TZNAME:CEST
DTSTART:20260329T010000
END:DAYLIGHT
BEGIN:STANDARD
TZOFFSETFROM:+0200
TZOFFSETTO:+0100
TZNAME:CET
DTSTART:20261025T010000
END:STANDARD
BEGIN:DAYLIGHT
TZOFFSETFROM:+0100
TZOFFSETTO:+0200
TZNAME:CEST
DTSTART:20270328T010000
END:DAYLIGHT
BEGIN:STANDARD
TZOFFSETFROM:+0200
TZOFFSETTO:+0100
TZNAME:CET
DTSTART:20271031T010000
END:STANDARD
END:VTIMEZONE
BEGIN:VEVENT
DTSTART;VALUE=DATE:20260602
DTEND;VALUE=DATE:20260603
DTSTAMP:20260422T135226
CREATED:20250915T090912Z
LAST-MODIFIED:20250915T090912Z
UID:18349-1780358400-1780444799@rs-din.de
SUMMARY:Jahrgang 10: Nachschreibetermin "Zentrale Prüfung (ZP) im Fach Deutsch"
DESCRIPTION:
URL:https://rs-din.de/event/jahrgang-10-nachschreibetermin-zentrale-pruefung-zp-im-fach-deutsch/
CATEGORIES:Zentrale Prüfung (ZP)
END:VEVENT
BEGIN:VEVENT
DTSTART;TZID=Europe/Berlin:20260602T190000
DTEND;TZID=Europe/Berlin:20260602T203000
DTSTAMP:20260422T135226
CREATED:20250915T090653Z
LAST-MODIFIED:20250915T090653Z
UID:18343-1780426800-1780432200@rs-din.de
SUMMARY:Jahrgang 6: Infoabend "WP-Wahlen"
DESCRIPTION:
URL:https://rs-din.de/event/jahrgang-6-infoabend-wp-wahlen/
LOCATION:GHR Dinslaken\, Standort „Am Stadtbad“
CATEGORIES:Elternabend,Informationsveranstaltung
END:VEVENT
BEGIN:VEVENT
DTSTART;VALUE=DATE:20260603
DTEND;VALUE=DATE:20260604
DTSTAMP:20260422T135226
CREATED:20250915T090944Z
LAST-MODIFIED:20250915T090944Z
UID:18351-1780444800-1780531199@rs-din.de
SUMMARY:Jahrgang 10: Nachschreibetermin "Zentrale Prüfung (ZP) im Fach Englisch"
DESCRIPTION:
URL:https://rs-din.de/event/jahrgang-10-nachschreibetermin-zentrale-pruefung-zp-im-fach-englisch/
CATEGORIES:Zentrale Prüfung (ZP)
END:VEVENT
BEGIN:VEVENT
DTSTART;VALUE=DATE:20260604
DTEND;VALUE=DATE:20260605
DTSTAMP:20260422T135226
CREATED:20250915T090734Z
LAST-MODIFIED:20250915T090734Z
UID:18345-1780531200-1780617599@rs-din.de
SUMMARY:Fronleichnam
DESCRIPTION:
URL:https://rs-din.de/event/fronleichnam-2/
CATEGORIES:Feiertage
END:VEVENT
BEGIN:VEVENT
DTSTART;VALUE=DATE:20260605
DTEND;VALUE=DATE:20260606
DTSTAMP:20260422T135226
CREATED:20250915T090805Z
LAST-MODIFIED:20250915T090805Z
UID:18347-1780617600-1780703999@rs-din.de
SUMMARY:Beweglicher Ferientag
DESCRIPTION:
URL:https://rs-din.de/event/beweglicher-ferientag-2/
CATEGORIES:Beweglicher Ferientag
END:VEVENT
BEGIN:VEVENT
DTSTART;VALUE=DATE:20260609
DTEND;VALUE=DATE:20260610
DTSTAMP:20260422T135226
CREATED:20250915T091016Z
LAST-MODIFIED:20250915T091016Z
UID:18353-1780963200-1781049599@rs-din.de
SUMMARY:Jahrgang 10: Nachschreibetermin "Zentrale Prüfung (ZP) im Fach Mathematik"
DESCRIPTION:
URL:https://rs-din.de/event/jahrgang-10-nachschreibetermin-zentrale-pruefung-zp-im-fach-mathematik/
CATEGORIES:Zentrale Prüfung (ZP)
END:VEVENT
BEGIN:VEVENT
DTSTART;VALUE=DATE:20260610
DTEND;VALUE=DATE:20260611
DTSTAMP:20260422T135226
CREATED:20250915T091055Z
LAST-MODIFIED:20250915T091055Z
UID:18355-1781049600-1781135999@rs-din.de
SUMMARY:Jahrgang 10: SINNTAG
DESCRIPTION:Einteilung und Zeiten laut Plan!
URL:https://rs-din.de/event/jahrgang-10-sinntag/
CATEGORIES:Projekte
END:VEVENT
BEGIN:VEVENT
DTSTART;VALUE=DATE:20260616
DTEND;VALUE=DATE:20260617
DTSTAMP:20260422T135226
CREATED:20250915T091216Z
LAST-MODIFIED:20250915T091216Z
UID:18357-1781568000-1781654399@rs-din.de
SUMMARY:Jahrgang 10: Bekanntgabe Vor- und Prüfungsnoten ZP
DESCRIPTION:Einteilung und Zeiten laut Plan!
URL:https://rs-din.de/event/jahrgang-10-bekanntgabe-vor-und-pruefungsnoten-zp/
CATEGORIES:Informationsveranstaltung,Zentrale Prüfung (ZP)
END:VEVENT
BEGIN:VEVENT
DTSTART;TZID=Europe/Berlin:20260616T190000
DTEND;TZID=Europe/Berlin:20260616T210000
DTSTAMP:20260422T135226
CREATED:20250915T091315Z
LAST-MODIFIED:20250915T091315Z
UID:18359-1781636400-1781643600@rs-din.de
SUMMARY:alle Jahrgänge: Schulpflegschaftssitzung
DESCRIPTION:
URL:https://rs-din.de/event/alle-jahrgaenge-schulpflegschaftssitzung-2/
LOCATION:GHR Dinslaken\, Standort „Am Stadtbad“
CATEGORIES:Schulmitwirkungsgremium,Schulpflegschaft
END:VEVENT
BEGIN:VEVENT
DTSTART;TZID=Europe/Berlin:20260630T190000
DTEND;TZID=Europe/Berlin:20260630T210000
DTSTAMP:20260422T135226
CREATED:20250915T091417Z
LAST-MODIFIED:20250915T091417Z
UID:18361-1782846000-1782853200@rs-din.de
SUMMARY:alle Jahrgänge: Schulkonferenz
DESCRIPTION:
URL:https://rs-din.de/event/alle-jahrgaenge-schulkonferenz-2/
CATEGORIES:Schulkonferenz,Schulmitwirkungsgremium
END:VEVENT
END:VCALENDAR